BEGIN:VCALENDAR
VERSION:2.0
PRODID:-//eventon.com NONSGML v1.0//EN
CALSCALE:GREGORIAN
METHOD:PUBLISH
BEGIN:VEVENT
UID:69eb41ad4f2a4
DTSTAMP:20260424T101053Z
DTSTART:20260424T090000Z
DTEND:20260424T110000Z
LOCATION:First Credit Union 22461 E Queen Creek Rd
SUMMARY:First Credit Union Grand Opening – Queen Creek & Signal Butte
DESCRIPTION:First Credit Union is officially opening its doors in Queen Cre
 ek\,  and you’re invited to celebrate! Join us for a fun-filled morning a
 s we welcome the community to our brand-new location. Whether you&#8217;re 
 looking to explore your financial options or just enjoy a great local event
 \,  there’s something for everyone.[..]\nhttps://hot975hot1039.com/events
 /first-credit-union-grand-opening-queen-creek-signal-butte
URL:https://hot975hot1039.com/events/first-credit-union-grand-opening-queen-creek-signal-butte
END:VEVENT
END:VCALENDAR