BEGIN:VCALENDAR
VERSION:2.0
PRODID:-//eventon.com NONSGML v1.0//EN
CALSCALE:GREGORIAN
METHOD:PUBLISH
BEGIN:VEVENT
UID:69e8735799e05
DTSTAMP:20260422T070559Z
DTSTART:20260817T190000Z
DTEND:20260817T220000Z
LOCATION:Mortgage Matchup Center (formerly PHX Arena)
SUMMARY:Benson Boone
DESCRIPTION:BENSON BOONE LIVE IN PHOENIX! Get ready\,  Phoenix! Benson Boon
 e is bringing his powerful vocals and chart-topping hits to the Valley on A
 ugust 17\,  2026 at Mortgage Matchup Center—and this is one show you do N
 OT want to miss. Known for his emotional performances and breakout hits\,  
 Benson Boone has[..]\nhttps://hot975hot1039.com/events/benson-boone
URL:https://hot975hot1039.com/events/benson-boone
END:VEVENT
END:VCALENDAR