BEGIN:VCALENDAR
VERSION:2.0
PRODID:-//eventon.com NONSGML v1.0//EN
CALSCALE:GREGORIAN
METHOD:PUBLISH
BEGIN:VEVENT
UID:69e790a3b5bb9
DTSTAMP:20260421T145843Z
DTSTART:20261007T190000Z
DTEND:20261007T220000Z
LOCATION:Talking Stick Resort Amphitheatre 2121 N 83rd Ave
SUMMARY:TLC & Salt-N-Pepa with En Vogue
DESCRIPTION:JUST ANNOUNCED!  TLC &amp; Salt-N-Pepa with En Vogue – IT’
 S ICONIC at Talking Stick Resort Amphitheatre on October 7! Click here for
  ticket information.\nhttps://hot975hot1039.com/events/tlc-salt-n-pepa-with
 -en-vogue
URL:https://hot975hot1039.com/events/tlc-salt-n-pepa-with-en-vogue
END:VEVENT
END:VCALENDAR