BEGIN:VCALENDAR
VERSION:2.0
PRODID:-//eventon.com NONSGML v1.0//EN
CALSCALE:GREGORIAN
METHOD:PUBLISH
BEGIN:VEVENT
UID:69ea3dc2588b0
DTSTAMP:20260423T154154Z
DTSTART:20250911T140000Z
DTEND:20250911T185900Z
LOCATION:Chase Field 401 E Jefferson St\, 
SUMMARY:Chris Brown
DESCRIPTION:🔥 Chris Brown is bringing BREEZY BOWL XX to Chase Field on S
 eptember 11 with Summer Walker and Bryson Tiller! Click here for more infor
 mation.\nhttps://hot975hot1039.com/events/chris-brown
URL:https://hot975hot1039.com/events/chris-brown
END:VEVENT
END:VCALENDAR