BEGIN:VCALENDAR
VERSION:2.0
PRODID:-//eventon.com NONSGML v1.0//EN
CALSCALE:GREGORIAN
METHOD:PUBLISH
BEGIN:VEVENT
UID:69e633ba0ebf3
DTSTAMP:20260420T141002Z
DTSTART:20240902T150000Z
DTEND:20240902T190000Z
LOCATION:
SUMMARY:Risas Dental - Labor of Love
DESCRIPTION:Risas Dental and Braces is providing free dental care for the c
 ommunity during their annual Labor of Love event on Monday\,  September 2nd
  from 8 AM to 12 PM. Patients can choose 1 out of 4 dental treatment option
 s: &#8211;          Exam &amp; X-rays &#8211;       [..]\nhttps:/
 /hot975hot1039.com/events/risas-dental-labor-of-love
URL:https://hot975hot1039.com/events/risas-dental-labor-of-love
END:VEVENT
END:VCALENDAR