BEGIN:VCALENDAR
VERSION:2.0
PRODID:-//eventon.com NONSGML v1.0//EN
CALSCALE:GREGORIAN
METHOD:PUBLISH
BEGIN:VEVENT
UID:69e735bb2864d
DTSTAMP:20260421T083051Z
DTSTART:20240419T150000Z
DTEND:20240419T190000Z
LOCATION:
SUMMARY:Glendale Rocks Code Mitigation & Neighborhood Beautification
DESCRIPTION:In partnership with the City of Glendale\,  Rebuilding Together
  Valley of the Sun will be hosting five (5) volunteer events. The events wi
 ll assist homeowners within Qualified Census Tracts with low-maintenance an
 d drought-resistant landscaping to mitigate front yard code violations and 
 beautify neighborhoods. In addition to landscaping\,  the event will[..]\nh
 ttps://hot975hot1039.com/events/glendale-rocks-code-mitigation-neighborhood
 -beautification
URL:https://hot975hot1039.com/events/glendale-rocks-code-mitigation-neighborhood-beautification
END:VEVENT
END:VCALENDAR