BEGIN:VCALENDAR
VERSION:2.0
PRODID:-//eventon.com NONSGML v1.0//EN
CALSCALE:GREGORIAN
METHOD:PUBLISH
BEGIN:VEVENT
UID:69e901126d697
DTSTAMP:20260422T171042Z
DTSTART:20231126T020000Z
DTEND:20231126T060000Z
LOCATION:Footprint Center 201 E Jefferson St
SUMMARY:The Trilogy Tour w/ Enrique Iglesias\,  Ricky Martin and Pitbull
DESCRIPTION:MIND-BLOWING! Enrique Iglesias\,  Ricky Martin and Pitbull have
  just announced The Trilogy Tour coming to Footprint Center on November 25!
  Register now through Sunday for your chance at tickets. Link: https://veri
 fiedfan.ticketmaster.com/trilogytour\nhttps://hot975hot1039.com/events/the-
 trilogy-tour-w-enrique-iglesias-ricky-martin-and-pitbull
URL:https://hot975hot1039.com/events/the-trilogy-tour-w-enrique-iglesias-ricky-martin-and-pitbull
END:VEVENT
END:VCALENDAR