BEGIN:VCALENDAR
VERSION:2.0
PRODID:-//eventon.com NONSGML v1.0//EN
CALSCALE:GREGORIAN
METHOD:PUBLISH
BEGIN:VEVENT
UID:69eba4d2f1ff3
DTSTAMP:20260424T171354Z
DTSTART:20221205T020000Z
DTEND:20221205T060000Z
LOCATION:Gila River Arena 9400 W Maryland Ave
SUMMARY:Under The Mistletoe
DESCRIPTION:Hot 97.5 &amp; 103.9 is excited about getting into The Holiday 
 Spirit with tickets to &#8220;Under The Mistletoe&#8221; starring Nelly\,  
 Ashanti\,  Ja Rule\,  Mase\,  Lil Jon and The Ying Yang Twins Sunday\,  Dec
 ember 4th at Desert Diamond Arena\,  Listen to Charlie Huero 3pm-7pm all th
 is week as he is giving[..]\nhttps://hot975hot1039.com/events/under-the-mis
 tletoe
URL:https://hot975hot1039.com/events/under-the-mistletoe
END:VEVENT
END:VCALENDAR