BEGIN:VCALENDAR
VERSION:2.0
PRODID:-//eventon.com NONSGML v1.0//EN
CALSCALE:GREGORIAN
METHOD:PUBLISH
BEGIN:VEVENT
UID:69eb9a3a9f1d2
DTSTAMP:20260424T162842Z
DTSTART:20220518T020000Z
DTEND:20220518T050000Z
LOCATION:Arizona Federal Theatre 400 W Washington St
SUMMARY:Sour Tour starring Olivia Rodrigo
DESCRIPTION:Hot 97.5 7 &amp; 103.9 presents The Sour Tour starring Olivia R
 odrigo May 17th at The Arizona Federal Theatre. Click here for ticket infor
 mation\nhttps://hot975hot1039.com/events/sour-tour-starring-olivia-rodrigo
URL:https://hot975hot1039.com/events/sour-tour-starring-olivia-rodrigo
END:VEVENT
END:VCALENDAR